BEGIN:VCALENDAR
VERSION:2.0
PRODID:-//https://www.ssseva.org - ECPv6.15.20//NONSGML v1.0//EN
CALSCALE:GREGORIAN
METHOD:PUBLISH
X-ORIGINAL-URL:https://www.ssseva.org
X-WR-CALDESC:Events for https://www.ssseva.org
REFRESH-INTERVAL;VALUE=DURATION:PT1H
X-Robots-Tag:noindex
X-PUBLISHED-TTL:PT1H
BEGIN:VTIMEZONE
TZID:UTC
BEGIN:STANDARD
TZOFFSETFROM:+0000
TZOFFSETTO:+0000
TZNAME:UTC
DTSTART:20240101T000000
END:STANDARD
END:VTIMEZONE
BEGIN:VEVENT
DTSTART;TZID=UTC:20251203T103000
DTEND;TZID=UTC:20251203T143000
DTSTAMP:20260420T024111
CREATED:20251017T194141Z
LAST-MODIFIED:20251022T190541Z
UID:8959-1764757800-1764772200@www.ssseva.org
SUMMARY:2025 Winter Caregiver Appreciation Day
DESCRIPTION:2025 Winter Caregiver Appreciation Day \nCaregivers\, this day is for you—come recharge\, connect\, and let us take care of you for a change this holiday season. \nSuffolk Center for Cultural Arts\n110 Finney Ave\, Suffolk\, VA\n \nWednesday\, December 3rd\, 2025\n10:30 a.m. – 2:30 p.m. \nThis free respite event is designed to celebrate family caregivers of older adults. Enjoy the support and camaraderie of your peers and those who understand and appreciate all that you do. \nIn appreciation of all you do\, be prepared to enjoy these offerings: \n\nBreakfast and Lunch\nChristmas -Themed Games and Raffle\nGifts Distribution for All Participants\nLaughter for the Soul Session\nChristmas Movie Screening\n\n Register Here \nOr to RSVP via phone\, call (757) 963-9208  \nRegistration closes on November 28th or when full. \n*Please note: we’re unable to provide on-site care for loved ones during this event.* \n Transportation from Hayden Village Center to the venue in Suffolk & back is available to those who sign up for transportation during registration!
URL:https://www.ssseva.org/event/2025-winter-caregiver-appreciation-day/
LOCATION:Suffolk Center for Cultural Arts\, 110 Finney Ave\, Suffolk\, VA\, 23434\, United States
ATTACH;FMTTYPE=image/png:https://www.ssseva.org/wp-content/uploads/2025/10/HEADER_Dec3-Caregiver-Appreciation-Day.png
END:VEVENT
END:VCALENDAR