BEGIN:VCALENDAR
VERSION:2.0
PRODID:-//https://www.ssseva.org - ECPv6.15.20//NONSGML v1.0//EN
CALSCALE:GREGORIAN
METHOD:PUBLISH
X-WR-CALNAME:https://www.ssseva.org
X-ORIGINAL-URL:https://www.ssseva.org
X-WR-CALDESC:Events for https://www.ssseva.org
REFRESH-INTERVAL;VALUE=DURATION:PT1H
X-Robots-Tag:noindex
X-PUBLISHED-TTL:PT1H
BEGIN:VTIMEZONE
TZID:UTC
BEGIN:STANDARD
TZOFFSETFROM:+0000
TZOFFSETTO:+0000
TZNAME:UTC
DTSTART:20240101T000000
END:STANDARD
END:VTIMEZONE
BEGIN:VEVENT
DTSTART;TZID=UTC:20251013T100000
DTEND;TZID=UTC:20251013T130000
DTSTAMP:20260420T122553
CREATED:20250910T141806Z
LAST-MODIFIED:20250911T135037Z
UID:8799-1760349600-1760360400@www.ssseva.org
SUMMARY:2025 Caregiver Appreciation Day
DESCRIPTION:2025 Caregiver Appreciation Day \nCaregivers\, this day is for you—come recharge\, connect\, and let us take care of you for a change. \nNorfolk Botanical Garden – Rose Garden Hall\n6700 Azalea Garden\nNorfolk\, VA 23518\n \nMonday\, October 13\, 2025\n10 a.m.–1 p.m. \n*Check-in begins at 9:15 a.m.* \nThis free respite event is designed to celebrate family caregivers of older adults. Enjoy the support and camaraderie of your peers and those who understand and appreciate all that you do. \nIn appreciation of all you do\, be prepared to enjoy these offerings: \n\nLight Breakfast\nEducational Seminar\nLunch by East Beach Catering\nGift Bags & Raffle Prizes\nFree Day at the Gardens\n\nTo RSVP call 757-264-7991 or Register Here \n*Please note: we’re unable to provide on-site care for loved ones during this event.*
URL:https://www.ssseva.org/event/caregiver-appreciation-day-2025/
LOCATION:Norfolk Botanical Gardens\, 6700 Azalea Garden Rd\, Norfolk\, VA\, 23518\, United States
ATTACH;FMTTYPE=image/png:https://www.ssseva.org/wp-content/uploads/2025/09/Header-Caregiver-Appreciation-Day.png
END:VEVENT
BEGIN:VEVENT
DTSTART;TZID=UTC:20251023T110000
DTEND;TZID=UTC:20251023T123000
DTSTAMP:20260420T122553
CREATED:20250923T181843Z
LAST-MODIFIED:20250924T184705Z
UID:8876-1761217200-1761222600@www.ssseva.org
SUMMARY:Silver Surfers Tech Scams Workshop
DESCRIPTION:Tech Scams Workshop \nProtect Yourself from Online Scams! \nJoin us for a workshop with Elizabeth Carter\, Director of Accreditation Services at the Better Business Bureau of Great Hampton Roads. Learn how to spot common online scams\, understand online search vulnerabilities\, and find out how to report scams through BBB.org/ScamTracker. Don’t miss this chance to stay safe online! \nSilver Surfers is a direct support service designed to equip older adults with tools\, knowledge and support to safely age digitally. \nSenior Services of Southeastern Virginia\n2551 Eltham Ave. Ste Q – Rooms 102a and 102b\nNorfolk\, VA 23513 \nThursday\, October 23\, 2025 at 11 a.m. – 12:30 p.m. \nIn this session\, you’ll learn: \n\nHow to spot common online consumer scams\nWays to recognize online search vulnerabilities\nHow to report scams through BBB.org/ScamTracker\n\nDon’t miss this opportunity to gain practical tips to keep your personal information and finances safe while navigating the digital world. \nTo register\, click below:\n \nRegister Here \nFor enrollment information call (757) 222-4526\, or email at mforbes@ssseva.org. 
URL:https://www.ssseva.org/event/silver-surfers-lunch-learn-tech-scams/
LOCATION:VA
ATTACH;FMTTYPE=image/png:https://www.ssseva.org/wp-content/uploads/2025/09/B-Silver-Surfers_TechScams-Oct23.png
END:VEVENT
END:VCALENDAR