BEGIN:VCALENDAR
VERSION:2.0
PRODID:-//https://www.ssseva.org - ECPv6.15.20//NONSGML v1.0//EN
CALSCALE:GREGORIAN
METHOD:PUBLISH
X-ORIGINAL-URL:https://www.ssseva.org
X-WR-CALDESC:Events for https://www.ssseva.org
REFRESH-INTERVAL;VALUE=DURATION:PT1H
X-Robots-Tag:noindex
X-PUBLISHED-TTL:PT1H
BEGIN:VTIMEZONE
TZID:UTC
BEGIN:STANDARD
TZOFFSETFROM:+0000
TZOFFSETTO:+0000
TZNAME:UTC
DTSTART:20250101T000000
END:STANDARD
END:VTIMEZONE
BEGIN:VEVENT
DTSTART;TZID=UTC:20260417T183000
DTEND;TZID=UTC:20260417T213000
DTSTAMP:20260420T145707
CREATED:20251031T131041Z
LAST-MODIFIED:20260330T165220Z
UID:9068-1776450600-1776461400@www.ssseva.org
SUMMARY:2026 Senior Services Night of Magic Gala
DESCRIPTION:Celebrate the past\, uplift the present\, and invest in the future with our “Roarin’ 20s” theme!  \nThis Night of Magic Gala supports programs that help older adults and caregivers live well and independently in the communities they love. \nVisit our page for more information at ssseva.org/2026-gala \nNeon House\n819 Granby St.\, Norfolk \nFriday\, April 17\, 2026\n6:30 p.m. – 9:30 p.m.\nCocktail Attire \nAt Senior Services\, we envision a community that empowers\, respects\, and values seniors and their caregivers. We offer programs and services that keep older adults healthy\, active\, and engaged so they may age in place with choice and dignity. \nOur programs are free of charge because seniors have earned them. We depend on your donations to meet the growing needs in our community. \nYOU make the magic happen when you come together with like-minded donors in support of older adults. We hope you will join us for a festive evening celebrating seniors. We can’t wait to see you! \n  \n  \n 
URL:https://www.ssseva.org/event/2026-gala/
LOCATION:Neon House\, 819 Granby Street\, Norfolk\, Virginia\, 23510
CATEGORIES:Norfolk,Senior Services Events
ATTACH;FMTTYPE=image/png:https://www.ssseva.org/wp-content/uploads/2025/10/Header_Night-of-Magic-Gala-2026-Theme.png
END:VEVENT
BEGIN:VEVENT
DTSTART;TZID=UTC:20260512T100000
DTEND;TZID=UTC:20260512T140000
DTSTAMP:20260420T145707
CREATED:20260309T132251Z
LAST-MODIFIED:20260413T140526Z
UID:9508-1778580000-1778594400@www.ssseva.org
SUMMARY:2026 Spring Caregiver Appreciation Day
DESCRIPTION:2026 Spring \nCaregiver Appreciation Day \nCaregivers\, this day is for you! Come recharge\, connect\, and let us take care of you for a change. \nNorfolk Botanical Garden – Rose Garden Hall\n6700 Azalea Garden\nNorfolk\, VA 23518\n \nTuesday\, May 12\, 2026\n10 a.m. – 2 p.m. \n*Check-in begins at 9:30 a.m.* \nThis free respite event is designed to celebrate family caregivers of older adults. Enjoy the support and camaraderie of your peers and those who understand and appreciate all that you do. \nIn appreciation of all you do\, be prepared to enjoy these offerings: \n\n\n\nEducational Seminars\nLunch\nGifts for all Guests\nRaffle Prizes\nFree Day at the Gardens\n\n  \n\n\nThis event is currently full.  \nIf you cannot make the event for any reason\, please contact us via the email or phone number below. This will allow for more seats to open up for those who are on the waitlist without losing the seats altogether.  \nFor cancellations or to give up your seat\, contacting us at: \n\nEmail: mzlorke@ssseva.org\nPhone: 757-963-9208\n\n*Please note: we’re unable to provide on-site care for loved ones during this event.*
URL:https://www.ssseva.org/event/2026-spring-appreciation-day/
LOCATION:Norfolk Botanical Gardens\, 6700 Azalea Garden Rd\, Norfolk\, VA\, 23518\, United States
ATTACH;FMTTYPE=image/png:https://www.ssseva.org/wp-content/uploads/2026/03/Header_May-2026_Caregiver-Appreciation-Day.png
END:VEVENT
BEGIN:VEVENT
DTSTART;TZID=UTC:20260522T120000
DTEND;TZID=UTC:20260522T150000
DTSTAMP:20260420T145707
CREATED:20260406T175354Z
LAST-MODIFIED:20260420T143740Z
UID:9630-1779451200-1779462000@www.ssseva.org
SUMMARY:Volunteer Appreciation Luncheon - 2026
DESCRIPTION:Event Details:\nVolunteers of Senior Services\, this day is for you! Join us as we celebrate your time\, dedication\, and the impact you’ve made in the lives of seniors in our community. \nRivers Casino Portsmouth\n3630 Victory Blvd\nPortsmouth\, VA 23701 \nFriday\, May 22\, 2026\n12:00 p.m. – 3:00 p.m.\nCheck-in begins at 11:45 a.m. \nThis special event is designed to honor and recognize our volunteers. Enjoy an afternoon of appreciation\, connection\, and meaningful connection with fellow volunteers and staff.\nIn appreciation of all you do\, be prepared to enjoy: \n– Lunch \n– Volunteer Recognition \n– Casino Royale–Inspired Games \n– Raffle Prizes \n– Time to Connect with Fellow Volunteers \n\nPlease note: This event is by invitation for eligible volunteers only.\nLast day to register is May 1\, 2026 or until capacity is reached. Check your volunteer email for details on how to RSVP.
URL:https://www.ssseva.org/event/volunteer-appreciation-lunch-2026/
LOCATION:Rivers Casino Portsmouth\, 3630 Victory Blvd\, Portsmouth\, 23701\, United States
ATTACH;FMTTYPE=image/png:https://www.ssseva.org/wp-content/uploads/2026/04/Header_Volunteer-Appreciation.png
END:VEVENT
END:VCALENDAR