BEGIN:VCALENDAR
VERSION:2.0
PRODID:-//https://www.ssseva.org - ECPv6.15.20//NONSGML v1.0//EN
CALSCALE:GREGORIAN
METHOD:PUBLISH
X-WR-CALNAME:https://www.ssseva.org
X-ORIGINAL-URL:https://www.ssseva.org
X-WR-CALDESC:Events for https://www.ssseva.org
REFRESH-INTERVAL;VALUE=DURATION:PT1H
X-Robots-Tag:noindex
X-PUBLISHED-TTL:PT1H
BEGIN:VTIMEZONE
TZID:UTC
BEGIN:STANDARD
TZOFFSETFROM:+0000
TZOFFSETTO:+0000
TZNAME:UTC
DTSTART:20210101T000000
END:STANDARD
END:VTIMEZONE
BEGIN:VTIMEZONE
TZID:America/Halifax
BEGIN:DAYLIGHT
TZOFFSETFROM:-0400
TZOFFSETTO:-0300
TZNAME:ADT
DTSTART:20210314T060000
END:DAYLIGHT
BEGIN:STANDARD
TZOFFSETFROM:-0300
TZOFFSETTO:-0400
TZNAME:AST
DTSTART:20211107T050000
END:STANDARD
BEGIN:DAYLIGHT
TZOFFSETFROM:-0400
TZOFFSETTO:-0300
TZNAME:ADT
DTSTART:20220313T060000
END:DAYLIGHT
BEGIN:STANDARD
TZOFFSETFROM:-0300
TZOFFSETTO:-0400
TZNAME:AST
DTSTART:20221106T050000
END:STANDARD
BEGIN:DAYLIGHT
TZOFFSETFROM:-0400
TZOFFSETTO:-0300
TZNAME:ADT
DTSTART:20230312T060000
END:DAYLIGHT
BEGIN:STANDARD
TZOFFSETFROM:-0300
TZOFFSETTO:-0400
TZNAME:AST
DTSTART:20231105T050000
END:STANDARD
END:VTIMEZONE
BEGIN:VEVENT
DTSTART;TZID=UTC:20240508T100000
DTEND;TZID=UTC:20240508T140000
DTSTAMP:20260422T215114
CREATED:20240306T175321Z
LAST-MODIFIED:20240313T143154Z
UID:7042-1715162400-1715176800@www.ssseva.org
SUMMARY:Independent Living Expo 2024
DESCRIPTION:In celebration of Older Americans Month May 2024 theme “Powered by Connection” this fun filled one day event will provide senior neighbors with the experience of connectedness.  By bringing community resources and the CarFit program to the local community\, the focus will be helping older adults connect with those supports that help with physical\, mental\, emotional health\, and their overall wellbeing so that they may continue to age with independence and choice. \nDay will include: \n\n– CarFit Inspections\n– Community Exhibitors\n– Dance Fitness by TaylorMade\n– Hearing & Eye Screenings\n– Raffles and Giveaways\n– Food\, Music\, and MORE!\n\nCarFit is a free\, interactive and educational program designed to improve older drivers safety.  \n*Space is limited for CarFit checks – book ahead with Dave at 757-222-4530 \nRegister Online Here
URL:https://www.ssseva.org/event/independent-living-expo-2024/
LOCATION:Hayden Village Center\, 680 Oak St.\, Franklin\, VA\, 23581\, United States
CATEGORIES:Community Event,Franklin,Senior Services Events
ATTACH;FMTTYPE=image/jpeg:https://www.ssseva.org/wp-content/uploads/2024/03/senior-driving-2.jpg
END:VEVENT
BEGIN:VEVENT
DTSTART;TZID=UTC:20240501T100000
DTEND;TZID=UTC:20240501T140000
DTSTAMP:20260422T215114
CREATED:20240305T192914Z
LAST-MODIFIED:20240425T130913Z
UID:7019-1714557600-1714572000@www.ssseva.org
SUMMARY:Senior Services’ Caregiver Appreciation Day at Norfolk Botanical Garden
DESCRIPTION:Senior Services of Southeastern Virginia is hosting a day of respite at Norfolk Botanical Gardens for caregivers of older adults. Learn about the importance of self-care\, have your questions answered by a panel of experts\, and enjoy fun activities and surprises! \nThe day will include a Caregiver Centered Seminar by Dr. Aaron Blight\, a Q&A Panel of experts on Elder Law\, raffles\, gifts & lunch. \nWorried about who will take care of your loved one? Bring them along! We teamed up with Primeplus to provide expert care for your loved ones during the event. \nNote: This event is fully booked. 
URL:https://www.ssseva.org/event/senior-services-caregiver-appreciation-day-at-norfolk-botanical-garden/
LOCATION:Norfolk Botanical Gardens\, 6700 Azalea Garden Rd\, Norfolk\, VA\, 23518\, United States
CATEGORIES:Community Event,Norfolk,Senior Services Events
ATTACH;FMTTYPE=image/jpeg:https://www.ssseva.org/wp-content/uploads/2023/05/20230425_162752-scaled.jpg
END:VEVENT
BEGIN:VEVENT
DTSTART;TZID=UTC:20240318T140000
DTEND;TZID=UTC:20240318T150000
DTSTAMP:20260422T215114
CREATED:20240308T154050Z
LAST-MODIFIED:20240308T154050Z
UID:7050-1710770400-1710774000@www.ssseva.org
SUMMARY:#SaveLunch and March with Senior Services
DESCRIPTION:Senior Services of Southeastern Virginia (Senior Services) is marching with the Senior Services Capitol Hill Club\, Better Together Café participants\, and community members as part of #SaveLunch – a nationwide campaign led by Meals on Wheels America designed to rally communities around our senior neighbors and protect the essential services that enable so many to remain healthy and independent at home. \nSenior Services will kick off Community Champions Week with a march on March 18th at 2:00 p.m. in person at 2551 Eltham Ave. Ste. Q\, Norfolk VA\, 23513\, or you can join them LIVE on Facebook at www.facebook.com/SSSEVA. During the rest of the Community Champions Week\, all Senior Services’ Better Together Café sites will be hosting their own marches to advocate for #SaveLunch.
URL:https://www.ssseva.org/event/savelunch-and-march-with-senior-services/
LOCATION:Senior Services Norfolk Office\, 2551 Eltham Ave. Suite Q\, Norfolk\, VA\, 23513\, United States
CATEGORIES:Community Event,Norfolk,Senior Services Events
ATTACH;FMTTYPE=image/jpeg:https://www.ssseva.org/wp-content/uploads/2024/03/March-for-Meals-2.jpg
END:VEVENT
BEGIN:VEVENT
DTSTART;TZID=UTC:20240214T100000
DTEND;TZID=UTC:20240214T134500
DTSTAMP:20260422T215114
CREATED:20240117T140042Z
LAST-MODIFIED:20240117T140042Z
UID:6865-1707904800-1707918300@www.ssseva.org
SUMMARY:Better Together Café Ribbon Cutting Ceremony & Valentine's Luncheon
DESCRIPTION:Senior Services of Southeastern Virginia (Senior Services) will open a Better Together Café at Windsor Town Center on Tuesday\, February 6th. The café\, situated at 23361 Courthouse Hwy\, Windsor\, VA 23487\, will be open from 10:00 am to 1:45 pm on Tuesdays\, Wednesdays\, and Thursdays. The Better Together Café offers a range of activities for seniors\, including meals\, holiday celebrations\, special events\, trips to local events\, games\, and wellness education that are all free to seniors who are 60 years old and better. \nA Ribbon Cutting Ceremony will take place: \nWhen: February 14\, 2024 \nTime: 10:00 am to 1:00 pm \nWhere: Windsor Town Center\, 23361 Courthouse Hwy.\, Windsor\, VA 23487 \nRSVP To: 757-264-7991
URL:https://www.ssseva.org/event/better-together-cafe-ribbon-cutting-ceremony-valentines-luncheon/
LOCATION:Windsor Town Center\, 23361 Courthouse Hwy\, Windsor\, Virginia\, 23487
CATEGORIES:Community Event,Isle of Wight,Senior Services Events
ATTACH;FMTTYPE=image/jpeg:https://www.ssseva.org/wp-content/uploads/2023/09/BTC-Window-Decal-V2-scaled.jpg
END:VEVENT
BEGIN:VEVENT
DTSTART;TZID=UTC:20231213T100000
DTEND;TZID=UTC:20231213T140000
DTSTAMP:20260422T215114
CREATED:20230929T142353Z
LAST-MODIFIED:20230929T142353Z
UID:6535-1702461600-1702476000@www.ssseva.org
SUMMARY:Vaccine and Resource Fair: Hayden Village Center
DESCRIPTION:Details: We’re hosting another COVID-19 & Flu Vaccine Clinic at Hayden Village Center! Community partners will be available to provide resources to older adults in Western Tidewater. Those aged 60+ who receive their COVID-19 vaccination will receive four tickets to the Regal Cinema in Harbour View Grande\, as well as a $40 grocery gift card. Supplies are limited. Registration needed for the clinic – call 757-461-9481 or register online: \nRegister Here
URL:https://www.ssseva.org/event/vaccine-and-resource-fair-hayden-village-center/
LOCATION:Hayden Village Center\, 680 Oak St.\, Franklin\, VA\, 23581\, United States
CATEGORIES:Community Event,Franklin,Senior Services Events
ATTACH;FMTTYPE=image/jpeg:https://www.ssseva.org/wp-content/uploads/2023/04/SSSEVA-2022-4343-scaled.jpg
END:VEVENT
BEGIN:VEVENT
DTSTART;TZID=UTC:20231114T100000
DTEND;TZID=UTC:20231114T140000
DTSTAMP:20260422T215114
CREATED:20230929T142146Z
LAST-MODIFIED:20230929T142206Z
UID:6533-1699956000-1699970400@www.ssseva.org
SUMMARY:Vaccine and Resource Fair: Norfolk Botanical Garden
DESCRIPTION:Details: We’re hosting another COVID-19 & Flu Vaccine Clinic at Norfolk Botanical Gardens! Community partners will be available to provide resources to older adults. Those aged 60+ who receive their COVID-19 vaccination will receive two passes to the Garden of Lights holiday light show and Senior Services swag. Enjoy the gardens at night\, lit bright with Christmas lights provided by Dominion Energy. Supplies are limited. Registration needed for the clinic – call 757-461-9481 or register online: \nRegister Here
URL:https://www.ssseva.org/event/vaccine-and-resource-fair-norfolk-botanical-garden/
LOCATION:Norfolk Botanical Gardens\, 6700 Azalea Garden Rd\, Norfolk\, VA\, 23518\, United States
CATEGORIES:Community Event,Norfolk,Senior Services Events
ATTACH;FMTTYPE=image/jpeg:https://www.ssseva.org/wp-content/uploads/2023/05/20230425_162752-scaled.jpg
END:VEVENT
BEGIN:VEVENT
DTSTART;TZID=UTC:20231028T110000
DTEND;TZID=UTC:20231028T140000
DTSTAMP:20260422T215114
CREATED:20230929T141857Z
LAST-MODIFIED:20230929T141857Z
UID:6528-1698490800-1698501600@www.ssseva.org
SUMMARY:Vaccine Clinic: Norfolk Community Connect
DESCRIPTION:Details: Find us at the annual Norfolk Community Connect for your COVID-19 or Flu vaccine! Activities provided for all ages. Those aged 60+ who receive their COVID-19 vaccination will receive two tickets to either One Night of Tina Tribute Show or the World Ballet Series\, The Nutcracker and Senior Services swag. Supplies are limited. Registration needed for the clinic – call 757-461-9481 or register online: \nRegister Here
URL:https://www.ssseva.org/event/vaccine-clinic-norfolk-community-connect/
LOCATION:Habor Park\, 150 Park Ave.\, Norfolk\, Virginia\, 23510
CATEGORIES:Community Event,Norfolk,Senior Services Events
ATTACH;FMTTYPE=image/png:https://www.ssseva.org/wp-content/uploads/2022/08/Asset-4.png
END:VEVENT
BEGIN:VEVENT
DTSTART;TZID=UTC:20231019T090000
DTEND;TZID=UTC:20231019T110000
DTSTAMP:20260422T215114
CREATED:20230912T124724Z
LAST-MODIFIED:20230912T124913Z
UID:6401-1697706000-1697713200@www.ssseva.org
SUMMARY:Legislative Breakfast
DESCRIPTION:The Legislative Breakfast will bring together the Southeastern regional aging network key stakeholders\, experts\, local leaders\, and senior constituents to better understand the value\, challenges\, and opportunities afforded by a strong and vibrant older adult population. \nThe theme of the breakfast is “The State of the Region on Older Adults” and will reflect our commitment to enhancing the lives of our senior citizens through effective services and collaborative efforts. \nSenior Services of Southeastern Virginia will introduce its legislative platform to state senators\, delegates\, candidates\, and local elected officials. \nSenior constituents of South Hampton Roads don’t miss this opportunity to speak with your elected officials and candidates. \n  \nRegister Here
URL:https://www.ssseva.org/event/legislative-breakfast/
LOCATION:Westminster Canterbury on Chesapeake Bay\, 3100 Shore Dr\, Virginia Beach\, VA\, 23451\, United States
CATEGORIES:Community Event,Senior Services Events,Virginia Beach
ATTACH;FMTTYPE=image/jpeg:https://www.ssseva.org/wp-content/uploads/2023/09/Asset-1.jpg
END:VEVENT
BEGIN:VEVENT
DTSTART;TZID=UTC:20230921T110000
DTEND;TZID=UTC:20230921T140000
DTSTAMP:20260422T215114
CREATED:20230912T130500Z
LAST-MODIFIED:20230912T130500Z
UID:6409-1695294000-1695304800@www.ssseva.org
SUMMARY:Better Together Café Debut
DESCRIPTION:  \n  \nSenior Services will be enhancing the programming and activities within our Senior Centers\, creating a better space to bring older adults and our community together. Join us as we debut our rebranding of our Senior Center sites\, formerly known as “Congregate”.
URL:https://www.ssseva.org/event/better-together-cafe-debut/
LOCATION:Mary Well’s Senior Center\, 13036 Nike Park Rd\, Carrollton\, Virginia\, 23314
CATEGORIES:Community Event,Isle of Wight,Senior Services Events
ATTACH;FMTTYPE=image/png:https://www.ssseva.org/wp-content/uploads/2023/09/BTC-Logo-e1694523862550.png
END:VEVENT
BEGIN:VEVENT
DTSTART;TZID=UTC:20230613T130000
DTEND;TZID=UTC:20230613T150000
DTSTAMP:20260422T215114
CREATED:20230503T190516Z
LAST-MODIFIED:20230503T190516Z
UID:5851-1686661200-1686668400@www.ssseva.org
SUMMARY:Public Hearing – Area Plan FY2024-2027
DESCRIPTION:Senior Services of Southeastern Virginia will host its annual public hearing on Tuesday\, June 13\, 2023\, from 1:00-3:00 p.m. The public hearing will be held in person at Senior Services’ Norfolk office as well as virtually\, via video conferencing or telephone. Thus\, the public will have the opportunity to see and/or hear the meeting live. \nThis public hearing is intended to engage community residents 60+ as well as family\, caretakers\, and institutions that work with older adults. These hearings provide Senior Services with valuable insight that helps outline programs and services to better address the needs of older adults in the region. Results from the hearings are used in reviewing the agency’s current FY2024 Area Plan for Aging Services for South Hampton Roads and Strategic Plan. \nLearn More
URL:https://www.ssseva.org/event/public-hearing-area-plan-fy2024-2027/
LOCATION:Senior Services Norfolk Office\, 2551 Eltham Ave. Suite Q\, Norfolk\, VA\, 23513\, United States
CATEGORIES:Community Event,Norfolk,Senior Services Events
ATTACH;FMTTYPE=image/jpeg:https://www.ssseva.org/wp-content/uploads/2023/04/Public-Hearing.jpg
END:VEVENT
BEGIN:VEVENT
DTSTART;TZID=UTC:20230517T093000
DTEND;TZID=UTC:20230517T140000
DTSTAMP:20260422T215114
CREATED:20230216T180608Z
LAST-MODIFIED:20230427T143017Z
UID:5529-1684315800-1684332000@www.ssseva.org
SUMMARY:Senior Services' Caregiver Appreciation Day at Norfolk Botanical Garden
DESCRIPTION:Senior Services of Southeastern Virginia is hosting a day of respite at Norfolk Botanical Gardens for caregivers of older adults. Learn about the importance of self-care\, have your questions answered by a panel of experts\, and enjoy fun activities and surprises! \nCLICK HERE TO REGISTER \n  \n 
URL:https://www.ssseva.org/event/senior-services-caregiver-appreciation-day-at-norfolk-botanical-gardens/
LOCATION:Norfolk Botanical Gardens\, 6700 Azalea Garden Rd\, Norfolk\, VA\, 23518\, United States
CATEGORIES:Norfolk,Senior Services Events
END:VEVENT
BEGIN:VEVENT
DTSTART;TZID=UTC:20221221T090000
DTEND;TZID=UTC:20221221T120000
DTSTAMP:20260422T215114
CREATED:20220830T185612Z
LAST-MODIFIED:20220830T185612Z
UID:5052-1671613200-1671624000@www.ssseva.org
SUMMARY:Western Tidewater Free Clinic Eligibility Appointment
DESCRIPTION:In partnership with Bon Secours\, the Tidewater Free Clinic will be hosting eligibility appointments at Hayden Village Center. The clinic offers a wide range of health services. Set your appointment today to see if you qualify for free health services! \nHayden Village Center \n680 Oak St. Franklin\, VA 23851 \nTo schedule an eligibility appointment call 757-923-1060 Ext. 7004 \nLearn more at www.wtfreeclinic.org/become-patient \n 
URL:https://www.ssseva.org/event/western-tidewater-free-clinic-eligibility-appointment-8/
LOCATION:Hayden Village Center\, 680 Oak St.\, Franklin\, VA\, 23581\, United States
CATEGORIES:Franklin,Isle of Wight,Senior Services Events,Southampton County,Suffolk
ATTACH;FMTTYPE=image/jpeg:https://www.ssseva.org/wp-content/uploads/2022/08/Depositphotos_18551567_xl-2015-scaled.jpg
END:VEVENT
BEGIN:VEVENT
DTSTART;TZID=UTC:20221207T090000
DTEND;TZID=UTC:20221207T120000
DTSTAMP:20260422T215114
CREATED:20220830T185551Z
LAST-MODIFIED:20220830T185551Z
UID:5050-1670403600-1670414400@www.ssseva.org
SUMMARY:Western Tidewater Free Clinic Eligibility Appointment
DESCRIPTION:In partnership with Bon Secours\, the Tidewater Free Clinic will be hosting eligibility appointments at Hayden Village Center. The clinic offers a wide range of health services. Set your appointment today to see if you qualify for free health services! \nHayden Village Center \n680 Oak St. Franklin\, VA 23851 \nTo schedule an eligibility appointment call 757-923-1060 Ext. 7004 \nLearn more at www.wtfreeclinic.org/become-patient \n 
URL:https://www.ssseva.org/event/western-tidewater-free-clinic-eligibility-appointment-7/
LOCATION:Hayden Village Center\, 680 Oak St.\, Franklin\, VA\, 23581\, United States
CATEGORIES:Franklin,Isle of Wight,Senior Services Events,Southampton County,Suffolk
ATTACH;FMTTYPE=image/jpeg:https://www.ssseva.org/wp-content/uploads/2022/08/Depositphotos_18551567_xl-2015-scaled.jpg
END:VEVENT
BEGIN:VEVENT
DTSTART;TZID=UTC:20221109T093000
DTEND;TZID=UTC:20221109T153000
DTSTAMP:20260422T215114
CREATED:20220830T185001Z
LAST-MODIFIED:20220830T200423Z
UID:5035-1667986200-1668007800@www.ssseva.org
SUMMARY:Western Tidewater Medicare Open Enrollment
DESCRIPTION:Review your 2023 Medicare Options\nSchedule your one-on-one appointment with a Medicare-Certified Benefits Counselor to compare/review your Medicare Advantage Plans and Prescription Drug Plan. There is no charge for this service. \nWednesday\, November 9\, 2022 | 9:30 AM – 3:30 PM\nAppointments are first come\, first serve • Limited appointments available \nHayden Village Center \n680 Oak Street\, Franklin\, VA 23851 \nRegistration Required \nCall 757-271-4185
URL:https://www.ssseva.org/event/western-tidewater-medicare-open-enrollment-2/
LOCATION:Hayden Village Center\, 680 Oak St.\, Franklin\, VA\, 23581\, United States
CATEGORIES:Franklin,Senior Services Events,Southampton County,Western Tidewater
ATTACH;FMTTYPE=image/jpeg:https://www.ssseva.org/wp-content/uploads/2020/10/nap-donors-ssseva.jpg
END:VEVENT
BEGIN:VEVENT
DTSTART;TZID=UTC:20221106T090000
DTEND;TZID=UTC:20221106T120000
DTSTAMP:20260422T215114
CREATED:20220830T185532Z
LAST-MODIFIED:20220830T185532Z
UID:5048-1667725200-1667736000@www.ssseva.org
SUMMARY:Western Tidewater Free Clinic Eligibility Appointment
DESCRIPTION:In partnership with Bon Secours\, the Tidewater Free Clinic will be hosting eligibility appointments at Hayden Village Center. The clinic offers a wide range of health services. Set your appointment today to see if you qualify for free health services! \nHayden Village Center \n680 Oak St. Franklin\, VA 23851 \nTo schedule an eligibility appointment call 757-923-1060 Ext. 7004 \nLearn more at www.wtfreeclinic.org/become-patient \n 
URL:https://www.ssseva.org/event/western-tidewater-free-clinic-eligibility-appointment-6/
LOCATION:Hayden Village Center\, 680 Oak St.\, Franklin\, VA\, 23581\, United States
CATEGORIES:Franklin,Isle of Wight,Senior Services Events,Southampton County,Suffolk
ATTACH;FMTTYPE=image/jpeg:https://www.ssseva.org/wp-content/uploads/2022/08/Depositphotos_18551567_xl-2015-scaled.jpg
END:VEVENT
BEGIN:VEVENT
DTSTART;TZID=UTC:20221102T090000
DTEND;TZID=UTC:20221102T120000
DTSTAMP:20260422T215114
CREATED:20220830T185500Z
LAST-MODIFIED:20220830T185500Z
UID:5046-1667379600-1667390400@www.ssseva.org
SUMMARY:Western Tidewater Free Clinic Eligibility Appointment
DESCRIPTION:In partnership with Bon Secours\, the Tidewater Free Clinic will be hosting eligibility appointments at Hayden Village Center. The clinic offers a wide range of health services. Set your appointment today to see if you qualify for free health services! \nHayden Village Center \n680 Oak St. Franklin\, VA 23851 \nTo schedule an eligibility appointment call 757-923-1060 Ext. 7004 \nLearn more at www.wtfreeclinic.org/become-patient \n 
URL:https://www.ssseva.org/event/western-tidewater-free-clinic-eligibility-appointment-5/
LOCATION:Hayden Village Center\, 680 Oak St.\, Franklin\, VA\, 23581\, United States
CATEGORIES:Franklin,Isle of Wight,Senior Services Events,Southampton County,Suffolk
ATTACH;FMTTYPE=image/jpeg:https://www.ssseva.org/wp-content/uploads/2022/08/Depositphotos_18551567_xl-2015-scaled.jpg
END:VEVENT
BEGIN:VEVENT
DTSTART;TZID=UTC:20221019T090000
DTEND;TZID=UTC:20221019T120000
DTSTAMP:20260422T215114
CREATED:20220830T185436Z
LAST-MODIFIED:20220830T185436Z
UID:5044-1666170000-1666180800@www.ssseva.org
SUMMARY:Western Tidewater Free Clinic Eligibility Appointment
DESCRIPTION:In partnership with Bon Secours\, the Tidewater Free Clinic will be hosting eligibility appointments at Hayden Village Center. The clinic offers a wide range of health services. Set your appointment today to see if you qualify for free health services! \nHayden Village Center \n680 Oak St. Franklin\, VA 23851 \nTo schedule an eligibility appointment call 757-923-1060 Ext. 7004 \nLearn more at www.wtfreeclinic.org/become-patient \n 
URL:https://www.ssseva.org/event/western-tidewater-free-clinic-eligibility-appointment-4/
LOCATION:Hayden Village Center\, 680 Oak St.\, Franklin\, VA\, 23581\, United States
CATEGORIES:Franklin,Isle of Wight,Senior Services Events,Southampton County,Suffolk
ATTACH;FMTTYPE=image/jpeg:https://www.ssseva.org/wp-content/uploads/2022/08/Depositphotos_18551567_xl-2015-scaled.jpg
END:VEVENT
BEGIN:VEVENT
DTSTART;TZID=UTC:20221005T090000
DTEND;TZID=UTC:20221005T120000
DTSTAMP:20260422T215114
CREATED:20220830T185416Z
LAST-MODIFIED:20220830T185416Z
UID:5042-1664960400-1664971200@www.ssseva.org
SUMMARY:Western Tidewater Free Clinic Eligibility Appointment
DESCRIPTION:In partnership with Bon Secours\, the Tidewater Free Clinic will be hosting eligibility appointments at Hayden Village Center. The clinic offers a wide range of health services. Set your appointment today to see if you qualify for free health services! \nHayden Village Center \n680 Oak St. Franklin\, VA 23851 \nTo schedule an eligibility appointment call 757-923-1060 Ext. 7004 \nLearn more at www.wtfreeclinic.org/become-patient \n 
URL:https://www.ssseva.org/event/western-tidewater-free-clinic-eligibility-appointment-3/
LOCATION:Hayden Village Center\, 680 Oak St.\, Franklin\, VA\, 23581\, United States
CATEGORIES:Franklin,Isle of Wight,Senior Services Events,Southampton County,Suffolk
ATTACH;FMTTYPE=image/jpeg:https://www.ssseva.org/wp-content/uploads/2022/08/Depositphotos_18551567_xl-2015-scaled.jpg
END:VEVENT
BEGIN:VEVENT
DTSTART;TZID=UTC:20220921T090000
DTEND;TZID=UTC:20220921T120000
DTSTAMP:20260422T215114
CREATED:20220830T185348Z
LAST-MODIFIED:20220830T185348Z
UID:5040-1663750800-1663761600@www.ssseva.org
SUMMARY:Western Tidewater Free Clinic Eligibility Appointment
DESCRIPTION:In partnership with Bon Secours\, the Tidewater Free Clinic will be hosting eligibility appointments at Hayden Village Center. The clinic offers a wide range of health services. Set your appointment today to see if you qualify for free health services! \nHayden Village Center \n680 Oak St. Franklin\, VA 23851 \nTo schedule an eligibility appointment call 757-923-1060 Ext. 7004 \nLearn more at www.wtfreeclinic.org/become-patient \n 
URL:https://www.ssseva.org/event/western-tidewater-free-clinic-eligibility-appointment-2/
LOCATION:Hayden Village Center\, 680 Oak St.\, Franklin\, VA\, 23581\, United States
CATEGORIES:Franklin,Isle of Wight,Senior Services Events,Southampton County,Suffolk
ATTACH;FMTTYPE=image/jpeg:https://www.ssseva.org/wp-content/uploads/2022/08/Depositphotos_18551567_xl-2015-scaled.jpg
END:VEVENT
BEGIN:VEVENT
DTSTART;TZID=America/Halifax:20220823T100000
DTEND;TZID=America/Halifax:20220823T120000
DTSTAMP:20260422T215114
CREATED:20220818T002021Z
LAST-MODIFIED:20220830T181731Z
UID:4949-1661248800-1661256000@www.ssseva.org
SUMMARY:Norfolk Botanical Gardens – Vaccine Event
DESCRIPTION:Experience the gardens in full bloom! Come get boosted with us on August 23rd at the Norfolk Botanical Gardens and receive 3 extra Garden passes to bring your grandkids\, as well as a $30 Marigold & Honey Café gift certificate to enjoy onsite dining. \nRegistration needed for the clinic – call 757-222-4525.
URL:https://www.ssseva.org/event/norfolk-botanical-gardens-vaccine-event/
LOCATION:Norfolk Botanical Gardens\, 6700 Azalea Garden Rd\, Norfolk\, VA\, 23518\, United States
CATEGORIES:Norfolk,Senior Services Events
ATTACH;FMTTYPE=image/png:https://www.ssseva.org/wp-content/uploads/2022/08/vax1.png
END:VEVENT
BEGIN:VEVENT
DTSTART;TZID=UTC:20220810T100000
DTEND;TZID=UTC:20220810T120000
DTSTAMP:20260422T215114
CREATED:20220806T092909Z
LAST-MODIFIED:20220830T184538Z
UID:5026-1660125600-1660132800@www.ssseva.org
SUMMARY:McDonald's Vaccine Event
DESCRIPTION:Get Your COVID-19 Vaccination or Booster\, and Receive FREE Lunch and Aquarium Tickets!\n1st\, 2nd and boosters available. For second doses and boosters\, please bring your CDC-issued vaccination card. \nVaccination Clinics are for those 60 years of age and older in need of their COVID-19 vaccination. \nKempsville McDonald’s® – Free Lunch & Aquarium Tickets\nWednesday\, August 10th\, 2022 | Vaccines 10:00 AM -12:00 PM\nMcDonald’s® – Kempsville\n1828 Kempsville Rd\, Virginia Beach\, VA 23464\nRegister: Call 757-222-4525 \nDetails: Looking for a fun and exciting activity this spring with your friends\, family or grandkids? Come get boosted on August 10th at McDonald’s® on Kempsville Rd. and receive two Virginia Aquarium tickets\, a $30 McDonald’s® Arch Card to buy you and your guest lunch\, plus many more exciting gift pack items! Registration needed for the clinic – call 757-222-4525. \n\nView Flyer
URL:https://www.ssseva.org/event/mcdonalds-vaccine-event/
LOCATION:VA
CATEGORIES:Senior Services Events,Vaccine Event,Virginia Beach
ATTACH;FMTTYPE=image/jpeg:https://www.ssseva.org/wp-content/uploads/2022/04/15643900199740.jpg
END:VEVENT
BEGIN:VEVENT
DTSTART;TZID=UTC:20220728T100000
DTEND;TZID=UTC:20220728T140000
DTSTAMP:20260422T215114
CREATED:20220711T160416Z
LAST-MODIFIED:20220830T183443Z
UID:5022-1659002400-1659016800@www.ssseva.org
SUMMARY:Boosters & Bingo: Community Immunity Series
DESCRIPTION:Get Your COVID-19 Vaccination or Booster\, and Receive FREE Lunch and Southampton County Fair Tickets!\n1st\, 2nd\, and boosters available. For second doses and boosters\, please bring your CDC-issued vaccination card. Vaccination Clinics are for those 60 years of age and older in need of their COVID-19 vaccination. \nHayden Village Center – Boosters and Bingo\nThursday\, July 28th\, 2022 | Event 10:00 AM – 2:00 PM | Vaccines 10:00 AM – 11:45 AM \nHayden Village Center \n680 Oak St\, Franklin\, VA 23851 \nRegister: Call 757-222-4525 \nDetails: Get your COVID-19 vaccine or booster\, then enjoy lunch and a round of bingo with special prizes! Plus\, all participants get 3 tickets to the Southampton County Fair and a $30 meal card. Registration required – call 757-222-4525. \n \nView Flyer
URL:https://www.ssseva.org/event/boosters-bingo-community-immunity-series/
LOCATION:Hayden Village Center\, 680 Oak St.\, Franklin\, VA\, 23581\, United States
CATEGORIES:Franklin,Senior Services Events,Vaccine Event
ATTACH;FMTTYPE=image/png:https://www.ssseva.org/wp-content/uploads/2022/07/Fair-2-1.png
END:VEVENT
BEGIN:VEVENT
DTSTART;TZID=UTC:20220518T130000
DTEND;TZID=UTC:20220518T150000
DTSTAMP:20260422T215114
CREATED:20220518T142749Z
LAST-MODIFIED:20220831T183030Z
UID:5037-1652878800-1652886000@www.ssseva.org
SUMMARY:FY23 Public Hearing
DESCRIPTION:Senior Services of Southeastern Virginia hosted its annual public hearing on Thursday\, June 30\, 2022. The public hearing was held in person at Senior Services’ new office as well as virtually\, via Zoom video conferencing and telephone. You can view a recording of the hearing below. \n﻿﻿﻿\nQuestions about accessing this public hearing should be e-mailed to lwasileski@ssseva.org.
URL:https://www.ssseva.org/event/fy23-public-hearing/
LOCATION:Senior Services Norfolk Office\, 2551 Eltham Ave. Suite Q\, Norfolk\, VA\, 23513\, United States
CATEGORIES:Norfolk,Senior Services Events,Virtual
ATTACH;FMTTYPE=image/jpeg:https://www.ssseva.org/wp-content/uploads/2021/04/Conference-Room-3-light.jpg
END:VEVENT
END:VCALENDAR