BEGIN:VCALENDAR
VERSION:2.0
PRODID:-//https://www.ssseva.org - ECPv6.15.20//NONSGML v1.0//EN
CALSCALE:GREGORIAN
METHOD:PUBLISH
X-ORIGINAL-URL:https://www.ssseva.org
X-WR-CALDESC:Events for https://www.ssseva.org
REFRESH-INTERVAL;VALUE=DURATION:PT1H
X-Robots-Tag:noindex
X-PUBLISHED-TTL:PT1H
BEGIN:VTIMEZONE
TZID:UTC
BEGIN:STANDARD
TZOFFSETFROM:+0000
TZOFFSETTO:+0000
TZNAME:UTC
DTSTART:20220101T000000
END:STANDARD
END:VTIMEZONE
BEGIN:VEVENT
DTSTART;TZID=UTC:20231114T100000
DTEND;TZID=UTC:20231114T140000
DTSTAMP:20260425T113539
CREATED:20230929T142146Z
LAST-MODIFIED:20230929T142206Z
UID:6533-1699956000-1699970400@www.ssseva.org
SUMMARY:Vaccine and Resource Fair: Norfolk Botanical Garden
DESCRIPTION:Details: We’re hosting another COVID-19 & Flu Vaccine Clinic at Norfolk Botanical Gardens! Community partners will be available to provide resources to older adults. Those aged 60+ who receive their COVID-19 vaccination will receive two passes to the Garden of Lights holiday light show and Senior Services swag. Enjoy the gardens at night\, lit bright with Christmas lights provided by Dominion Energy. Supplies are limited. Registration needed for the clinic – call 757-461-9481 or register online: \nRegister Here
URL:https://www.ssseva.org/event/vaccine-and-resource-fair-norfolk-botanical-garden/
LOCATION:Norfolk Botanical Gardens\, 6700 Azalea Garden Rd\, Norfolk\, VA\, 23518\, United States
CATEGORIES:Community Event,Norfolk,Senior Services Events
ATTACH;FMTTYPE=image/jpeg:https://www.ssseva.org/wp-content/uploads/2023/05/20230425_162752-scaled.jpg
END:VEVENT
END:VCALENDAR