BEGIN:VCALENDAR
VERSION:2.0
PRODID:-//https://www.ssseva.org - ECPv6.15.20//NONSGML v1.0//EN
CALSCALE:GREGORIAN
METHOD:PUBLISH
X-WR-CALNAME:https://www.ssseva.org
X-ORIGINAL-URL:https://www.ssseva.org
X-WR-CALDESC:Events for https://www.ssseva.org
REFRESH-INTERVAL;VALUE=DURATION:PT1H
X-Robots-Tag:noindex
X-PUBLISHED-TTL:PT1H
BEGIN:VTIMEZONE
TZID:UTC
BEGIN:STANDARD
TZOFFSETFROM:+0000
TZOFFSETTO:+0000
TZNAME:UTC
DTSTART:20220101T000000
END:STANDARD
END:VTIMEZONE
BEGIN:VEVENT
DTSTART;TZID=UTC:20230422T100000
DTEND;TZID=UTC:20230422T140000
DTSTAMP:20260424T141156
CREATED:20230413T184132Z
LAST-MODIFIED:20230413T184132Z
UID:5692-1682157600-1682172000@www.ssseva.org
SUMMARY:Health\, Wealth & Serving Our Community Fair
DESCRIPTION:
URL:https://www.ssseva.org/event/health-wealth-serving-our-community-fair/
LOCATION:Greater St. Andrew’s African Methodist Episcipal Church\, 3008 MacDonald Rd.\, Virginia Beach\, VA\, 23464\, United States
CATEGORIES:Outreach Presentations,Virginia Beach
ATTACH;FMTTYPE=image/jpeg:https://www.ssseva.org/wp-content/uploads/2020/09/SSSEVA-_-Mobile.jpg
END:VEVENT
END:VCALENDAR