BEGIN:VCALENDAR
VERSION:2.0
PRODID:-//https://www.ssseva.org - ECPv6.15.20//NONSGML v1.0//EN
CALSCALE:GREGORIAN
METHOD:PUBLISH
X-WR-CALNAME:https://www.ssseva.org
X-ORIGINAL-URL:https://www.ssseva.org
X-WR-CALDESC:Events for https://www.ssseva.org
REFRESH-INTERVAL;VALUE=DURATION:PT1H
X-Robots-Tag:noindex
X-PUBLISHED-TTL:PT1H
BEGIN:VTIMEZONE
TZID:UTC
BEGIN:STANDARD
TZOFFSETFROM:+0000
TZOFFSETTO:+0000
TZNAME:UTC
DTSTART:20220101T000000
END:STANDARD
END:VTIMEZONE
BEGIN:VEVENT
DTSTART;TZID=UTC:20231008T130000
DTEND;TZID=UTC:20231008T180000
DTSTAMP:20260424T043052
CREATED:20230912T135502Z
LAST-MODIFIED:20230912T135801Z
UID:6436-1696770000-1696788000@www.ssseva.org
SUMMARY:Oyster Crush
DESCRIPTION:
URL:https://www.ssseva.org/event/oyster-crush/
LOCATION:Ballyhoos\, 2865 Lynnhaven Dr STE D3\, Virginia Beach\, Virginia\, 23451
CATEGORIES:Community Event,Virginia Beach
ATTACH;FMTTYPE=image/jpeg:https://www.ssseva.org/wp-content/uploads/2023/09/pexels-kaan-durmus-9901432-scaled-e1694527077621.jpg
END:VEVENT
END:VCALENDAR