BEGIN:VCALENDAR
VERSION:2.0
PRODID:-//https://www.ssseva.org - ECPv6.15.20//NONSGML v1.0//EN
CALSCALE:GREGORIAN
METHOD:PUBLISH
X-WR-CALNAME:https://www.ssseva.org
X-ORIGINAL-URL:https://www.ssseva.org
X-WR-CALDESC:Events for https://www.ssseva.org
REFRESH-INTERVAL;VALUE=DURATION:PT1H
X-Robots-Tag:noindex
X-PUBLISHED-TTL:PT1H
BEGIN:VTIMEZONE
TZID:UTC
BEGIN:STANDARD
TZOFFSETFROM:+0000
TZOFFSETTO:+0000
TZNAME:UTC
DTSTART:20220101T000000
END:STANDARD
END:VTIMEZONE
BEGIN:VEVENT
DTSTART;TZID=UTC:20230924T140000
DTEND;TZID=UTC:20230924T180000
DTSTAMP:20260424T060256
CREATED:20230912T130937Z
LAST-MODIFIED:20230912T130937Z
UID:6418-1695564000-1695578400@www.ssseva.org
SUMMARY:Savvy Senior Connections Sneaker Ball & Expo
DESCRIPTION:
URL:https://www.ssseva.org/event/savvy-senior-connections-sneaker-ball-expo/
LOCATION:Holiday Inn\, 5655 Greenwich Rd.\, Virginia Beach\, 23462
CATEGORIES:Community Event,Virginia Beach
ATTACH;FMTTYPE=image/png:https://www.ssseva.org/wp-content/uploads/2023/01/Asset-1@2x.png
END:VEVENT
END:VCALENDAR