BEGIN:VCALENDAR
VERSION:2.0
PRODID:-//https://www.ssseva.org - ECPv6.15.20//NONSGML v1.0//EN
CALSCALE:GREGORIAN
METHOD:PUBLISH
X-ORIGINAL-URL:https://www.ssseva.org
X-WR-CALDESC:Events for https://www.ssseva.org
REFRESH-INTERVAL;VALUE=DURATION:PT1H
X-Robots-Tag:noindex
X-PUBLISHED-TTL:PT1H
BEGIN:VTIMEZONE
TZID:UTC
BEGIN:STANDARD
TZOFFSETFROM:+0000
TZOFFSETTO:+0000
TZNAME:UTC
DTSTART:20220101T000000
END:STANDARD
END:VTIMEZONE
BEGIN:VEVENT
DTSTART;TZID=UTC:20230509T080000
DTEND;TZID=UTC:20230509T150000
DTSTAMP:20260421T044416
CREATED:20230413T184348Z
LAST-MODIFIED:20230413T184348Z
UID:5700-1683619200-1683644400@www.ssseva.org
SUMMARY:Portsmouth Senior Games
DESCRIPTION:
URL:https://www.ssseva.org/event/portsmouth-senior-games/
LOCATION:Portsmouth Senior Station\, 3500 Clifford St.\, Portsmouth\, Virginia\, 23707
CATEGORIES:Community Event,Portsmouth
ATTACH;FMTTYPE=image/jpeg:https://www.ssseva.org/wp-content/uploads/2022/05/Games-1-scaled.jpg
END:VEVENT
END:VCALENDAR