BEGIN:VCALENDAR
VERSION:2.0
PRODID:-//https://www.ssseva.org - ECPv6.15.20//NONSGML v1.0//EN
CALSCALE:GREGORIAN
METHOD:PUBLISH
X-ORIGINAL-URL:https://www.ssseva.org
X-WR-CALDESC:Events for https://www.ssseva.org
REFRESH-INTERVAL;VALUE=DURATION:PT1H
X-Robots-Tag:noindex
X-PUBLISHED-TTL:PT1H
BEGIN:VTIMEZONE
TZID:America/Halifax
BEGIN:DAYLIGHT
TZOFFSETFROM:-0400
TZOFFSETTO:-0300
TZNAME:ADT
DTSTART:20210314T060000
END:DAYLIGHT
BEGIN:STANDARD
TZOFFSETFROM:-0300
TZOFFSETTO:-0400
TZNAME:AST
DTSTART:20211107T050000
END:STANDARD
BEGIN:DAYLIGHT
TZOFFSETFROM:-0400
TZOFFSETTO:-0300
TZNAME:ADT
DTSTART:20220313T060000
END:DAYLIGHT
BEGIN:STANDARD
TZOFFSETFROM:-0300
TZOFFSETTO:-0400
TZNAME:AST
DTSTART:20221106T050000
END:STANDARD
BEGIN:DAYLIGHT
TZOFFSETFROM:-0400
TZOFFSETTO:-0300
TZNAME:ADT
DTSTART:20230312T060000
END:DAYLIGHT
BEGIN:STANDARD
TZOFFSETFROM:-0300
TZOFFSETTO:-0400
TZNAME:AST
DTSTART:20231105T050000
END:STANDARD
END:VTIMEZONE
BEGIN:VEVENT
DTSTART;TZID=America/Halifax:20220916T100000
DTEND;TZID=America/Halifax:20220916T140000
DTSTAMP:20260424T075923
CREATED:20220818T002408Z
LAST-MODIFIED:20220830T181512Z
UID:4954-1663322400-1663336800@www.ssseva.org
SUMMARY:Isle of Wight County Fair Vaccine Event
DESCRIPTION:Come get boosted with us on September 16th at the Isle of Wight County Fair from 10 AM – 2 PM. Entry for older adults and children is only $1 during these times. Get your booster and enjoy the rest of the day making memories! \nQuestions? Call 757-222-4525 \nTo Register: \nhttps://vase.vdh.virginia.gov/vdhapps/f?p=535:205:::NO:205:P205_CLINIC_DETAILS_ID:305576005845176033601789669819542073161
URL:https://www.ssseva.org/event/isle-of-wight-county-fair-vaccine-event/
LOCATION:Isle of Wight County Fair\, 21311 Courthouse Hwy\, Windsor\, VA\, United States
CATEGORIES:Community Event,Isle of Wight
ATTACH;FMTTYPE=image/png:https://www.ssseva.org/wp-content/uploads/2022/08/vax2.png
END:VEVENT
END:VCALENDAR