BEGIN:VCALENDAR
VERSION:2.0
PRODID:-//https://www.ssseva.org - ECPv6.15.20//NONSGML v1.0//EN
CALSCALE:GREGORIAN
METHOD:PUBLISH
X-WR-CALNAME:https://www.ssseva.org
X-ORIGINAL-URL:https://www.ssseva.org
X-WR-CALDESC:Events for https://www.ssseva.org
REFRESH-INTERVAL;VALUE=DURATION:PT1H
X-Robots-Tag:noindex
X-PUBLISHED-TTL:PT1H
BEGIN:VTIMEZONE
TZID:UTC
BEGIN:STANDARD
TZOFFSETFROM:+0000
TZOFFSETTO:+0000
TZNAME:UTC
DTSTART:20220101T000000
END:STANDARD
END:VTIMEZONE
BEGIN:VEVENT
DTSTART;VALUE=DATE:20230616
DTEND;VALUE=DATE:20230617
DTSTAMP:20260423T030748
CREATED:20230501T130455Z
LAST-MODIFIED:20230501T130455Z
UID:5826-1686873600-1686959999@www.ssseva.org
SUMMARY:Isle of Wight - Elder Abuse Event for Seniors
DESCRIPTION:
URL:https://www.ssseva.org/event/isle-of-wight-elder-abuse-event-for-seniors/
LOCATION:Windsor Town Center\, 23361 Courthouse Hwy\, Windsor\, Virginia\, 23487
CATEGORIES:Community Event,Isle of Wight,Southampton County
ATTACH;FMTTYPE=image/jpeg:https://www.ssseva.org/wp-content/uploads/2020/09/Fixed-Routes-472.jpg
END:VEVENT
END:VCALENDAR