BEGIN:VCALENDAR
VERSION:2.0
PRODID:-//https://www.ssseva.org - ECPv6.15.20//NONSGML v1.0//EN
CALSCALE:GREGORIAN
METHOD:PUBLISH
X-WR-CALNAME:https://www.ssseva.org
X-ORIGINAL-URL:https://www.ssseva.org
X-WR-CALDESC:Events for https://www.ssseva.org
REFRESH-INTERVAL;VALUE=DURATION:PT1H
X-Robots-Tag:noindex
X-PUBLISHED-TTL:PT1H
BEGIN:VTIMEZONE
TZID:UTC
BEGIN:STANDARD
TZOFFSETFROM:+0000
TZOFFSETTO:+0000
TZNAME:UTC
DTSTART:20210101T000000
END:STANDARD
END:VTIMEZONE
BEGIN:VEVENT
DTSTART;TZID=UTC:20221217T100000
DTEND;TZID=UTC:20221217T140000
DTSTAMP:20260424T072238
CREATED:20221205T164220Z
LAST-MODIFIED:20221205T164220Z
UID:5359-1671271200-1671285600@www.ssseva.org
SUMMARY:Fill the Trunk\, Share the Love
DESCRIPTION:Senior Services is participating in the 15th annual Subaru Share the Love Event\, as a member of Meals on Wheels America – one of four national Share the Love charitable partners supported through the campaign. From November 17\, 2022\, through January 3\, 2023\, Subaru of America will donate $250 for every new Subaru vehicle purchased or leased to the customer’s choice of participating charities. \nThis year\, Senior Services is asking for donations of unused\, essentials goods for older adults in need. Critical unused items include cold weather gear\, toiletries\, blankets\, hair care products\, emergency thermal blankets\, laundry supplies\, and towels. Our partnering organization\, Newlands Management Corporation\, will host the donation event at: \nWhen: December 17\, 2022\nWhere: Town Center McDonald’s®\n4696 Bonney Rd. Virginia Beach\, VA\nTime: 10:00 am – 2:00 pm.
URL:https://www.ssseva.org/event/fill-the-trunk-share-the-love/
LOCATION:Virginia
CATEGORIES:Chesapeake,Community Event,Norfolk,Virginia Beach
ATTACH;FMTTYPE=image/jpeg:https://www.ssseva.org/wp-content/uploads/2022/12/Event-Posts-Facebook-Event-Cover.jpg
END:VEVENT
END:VCALENDAR