BEGIN:VCALENDAR
VERSION:2.0
PRODID:-//https://www.ssseva.org - ECPv6.15.20//NONSGML v1.0//EN
CALSCALE:GREGORIAN
METHOD:PUBLISH
X-ORIGINAL-URL:https://www.ssseva.org
X-WR-CALDESC:Events for https://www.ssseva.org
REFRESH-INTERVAL;VALUE=DURATION:PT1H
X-Robots-Tag:noindex
X-PUBLISHED-TTL:PT1H
BEGIN:VTIMEZONE
TZID:UTC
BEGIN:STANDARD
TZOFFSETFROM:+0000
TZOFFSETTO:+0000
TZNAME:UTC
DTSTART:20230101T000000
END:STANDARD
END:VTIMEZONE
BEGIN:VEVENT
DTSTART;TZID=UTC:20240508T100000
DTEND;TZID=UTC:20240508T140000
DTSTAMP:20260419T232323
CREATED:20240306T175321Z
LAST-MODIFIED:20240313T143154Z
UID:7042-1715162400-1715176800@www.ssseva.org
SUMMARY:Independent Living Expo 2024
DESCRIPTION:In celebration of Older Americans Month May 2024 theme “Powered by Connection” this fun filled one day event will provide senior neighbors with the experience of connectedness.  By bringing community resources and the CarFit program to the local community\, the focus will be helping older adults connect with those supports that help with physical\, mental\, emotional health\, and their overall wellbeing so that they may continue to age with independence and choice. \nDay will include: \n\n– CarFit Inspections\n– Community Exhibitors\n– Dance Fitness by TaylorMade\n– Hearing & Eye Screenings\n– Raffles and Giveaways\n– Food\, Music\, and MORE!\n\nCarFit is a free\, interactive and educational program designed to improve older drivers safety.  \n*Space is limited for CarFit checks – book ahead with Dave at 757-222-4530 \nRegister Online Here
URL:https://www.ssseva.org/event/independent-living-expo-2024/
LOCATION:Hayden Village Center\, 680 Oak St.\, Franklin\, VA\, 23581\, United States
CATEGORIES:Community Event,Franklin,Senior Services Events
ATTACH;FMTTYPE=image/jpeg:https://www.ssseva.org/wp-content/uploads/2024/03/senior-driving-2.jpg
END:VEVENT
END:VCALENDAR