BEGIN:VCALENDAR
VERSION:2.0
PRODID:-//https://www.ssseva.org - ECPv6.15.20//NONSGML v1.0//EN
CALSCALE:GREGORIAN
METHOD:PUBLISH
X-WR-CALNAME:https://www.ssseva.org
X-ORIGINAL-URL:https://www.ssseva.org
X-WR-CALDESC:Events for https://www.ssseva.org
REFRESH-INTERVAL;VALUE=DURATION:PT1H
X-Robots-Tag:noindex
X-PUBLISHED-TTL:PT1H
BEGIN:VTIMEZONE
TZID:UTC
BEGIN:STANDARD
TZOFFSETFROM:+0000
TZOFFSETTO:+0000
TZNAME:UTC
DTSTART:20220101T000000
END:STANDARD
END:VTIMEZONE
BEGIN:VEVENT
DTSTART;TZID=UTC:20230513T110000
DTEND;TZID=UTC:20230513T140000
DTSTAMP:20260422T092558
CREATED:20230501T130030Z
LAST-MODIFIED:20230501T130030Z
UID:5819-1683975600-1683986400@www.ssseva.org
SUMMARY:Unity in the Community
DESCRIPTION:
URL:https://www.ssseva.org/event/unity-in-the-community/
LOCATION:Chesapeake CARES Center\, 3940 Airline Blvd.\, Chesapeake\, Virginia\, 23321
CATEGORIES:Chesapeake,Community Event
ATTACH;FMTTYPE=image/png:https://www.ssseva.org/wp-content/uploads/2023/01/Asset-1@2x.png
END:VEVENT
END:VCALENDAR